BEGIN:VCALENDAR
VERSION:2.0
PRODID:-//North Ridgeville Historical Society - ECPv6.15.13//NONSGML v1.0//EN
CALSCALE:GREGORIAN
METHOD:PUBLISH
X-ORIGINAL-URL:https://northridgevillehistoricalsociety.com
X-WR-CALDESC:Events for North Ridgeville Historical Society
REFRESH-INTERVAL;VALUE=DURATION:PT1H
X-Robots-Tag:noindex
X-PUBLISHED-TTL:PT1H
BEGIN:VTIMEZONE
TZID:America/New_York
BEGIN:DAYLIGHT
TZOFFSETFROM:-0500
TZOFFSETTO:-0400
TZNAME:EDT
DTSTART:20240310T070000
END:DAYLIGHT
BEGIN:STANDARD
TZOFFSETFROM:-0400
TZOFFSETTO:-0500
TZNAME:EST
DTSTART:20241103T060000
END:STANDARD
BEGIN:DAYLIGHT
TZOFFSETFROM:-0500
TZOFFSETTO:-0400
TZNAME:EDT
DTSTART:20250309T070000
END:DAYLIGHT
BEGIN:STANDARD
TZOFFSETFROM:-0400
TZOFFSETTO:-0500
TZNAME:EST
DTSTART:20251102T060000
END:STANDARD
BEGIN:DAYLIGHT
TZOFFSETFROM:-0500
TZOFFSETTO:-0400
TZNAME:EDT
DTSTART:20260308T070000
END:DAYLIGHT
BEGIN:STANDARD
TZOFFSETFROM:-0400
TZOFFSETTO:-0500
TZNAME:EST
DTSTART:20261101T060000
END:STANDARD
END:VTIMEZONE
BEGIN:VEVENT
DTSTART;TZID=America/New_York:20251206T090000
DTEND;TZID=America/New_York:20251206T160000
DTSTAMP:20260424T132416
CREATED:20251011T221822Z
LAST-MODIFIED:20251011T221822Z
UID:5906-1765011600-1765036800@northridgevillehistoricalsociety.com
SUMMARY:Holiday on the Ridge
DESCRIPTION:It’s almost here!  Time for another Holiday On the Ridge!  On your trek around town\, be sure to stop in at Mould’s Garden Center- where you’ll find us and our museum pop-up shop.  We’ll have a few unique gift items for your holiday shopping.  Watch for more information as the date draws near……
URL:https://northridgevillehistoricalsociety.com/event/holiday-on-the-ridge-2/
LOCATION:Don Mould’s Garden Center\, 34837 Lorain Rd\, North Ridgeville\, OH\, United States
END:VEVENT
END:VCALENDAR