BEGIN:VCALENDAR
VERSION:2.0
PRODID:-//North Ridgeville Historical Society - ECPv6.15.13//NONSGML v1.0//EN
CALSCALE:GREGORIAN
METHOD:PUBLISH
X-WR-CALNAME:North Ridgeville Historical Society
X-ORIGINAL-URL:https://northridgevillehistoricalsociety.com
X-WR-CALDESC:Events for North Ridgeville Historical Society
REFRESH-INTERVAL;VALUE=DURATION:PT1H
X-Robots-Tag:noindex
X-PUBLISHED-TTL:PT1H
BEGIN:VTIMEZONE
TZID:America/New_York
BEGIN:DAYLIGHT
TZOFFSETFROM:-0500
TZOFFSETTO:-0400
TZNAME:EDT
DTSTART:20240310T070000
END:DAYLIGHT
BEGIN:STANDARD
TZOFFSETFROM:-0400
TZOFFSETTO:-0500
TZNAME:EST
DTSTART:20241103T060000
END:STANDARD
BEGIN:DAYLIGHT
TZOFFSETFROM:-0500
TZOFFSETTO:-0400
TZNAME:EDT
DTSTART:20250309T070000
END:DAYLIGHT
BEGIN:STANDARD
TZOFFSETFROM:-0400
TZOFFSETTO:-0500
TZNAME:EST
DTSTART:20251102T060000
END:STANDARD
BEGIN:DAYLIGHT
TZOFFSETFROM:-0500
TZOFFSETTO:-0400
TZNAME:EDT
DTSTART:20260308T070000
END:DAYLIGHT
BEGIN:STANDARD
TZOFFSETFROM:-0400
TZOFFSETTO:-0500
TZNAME:EST
DTSTART:20261101T060000
END:STANDARD
END:VTIMEZONE
BEGIN:VEVENT
DTSTART;TZID=America/New_York:20250808T180000
DTEND;TZID=America/New_York:20250810T180000
DTSTAMP:20260424T030747
CREATED:20250728T174524Z
LAST-MODIFIED:20250728T174524Z
UID:5060-1754676000-1754848800@northridgevillehistoricalsociety.com
SUMMARY:Corn Festival
DESCRIPTION:This year is the 50th anniversary of the Corn Festival and there will be lots of different things to see and do!  We’ll be there all weekend- sharing our love of history and selling Ranger Quilt raffle tickets\, so stop by our booth to say hello!  The quilt drawing will be Sunday\, August 10th.
URL:https://northridgevillehistoricalsociety.com/event/corn-festival-2/
LOCATION:Corn Festival Grounds\, 7565 Avon Belden Rd\, North Ridgeville\, OH\, 44039\, United States
END:VEVENT
BEGIN:VEVENT
DTSTART;TZID=America/New_York:20250727T140000
DTEND;TZID=America/New_York:20250727T170000
DTSTAMP:20260424T030747
CREATED:20250621T204412Z
LAST-MODIFIED:20250621T204412Z
UID:4805-1753624800-1753635600@northridgevillehistoricalsociety.com
SUMMARY:Schoolhouse Open House
DESCRIPTION:Join us from 2-5 for a fun afternoon exploring a 1859 era one-room schoolhouse.  The Schoolmarm will be waiting for you!
URL:https://northridgevillehistoricalsociety.com/event/schoolhouse-open-house-2/
LOCATION:District #9 Schoolhouse\, 5064 Jaycox Rd.\, North Ridgeville\, OH\, 44039\, United States
END:VEVENT
BEGIN:VEVENT
DTSTART;TZID=America/New_York:20250716T163000
DTEND;TZID=America/New_York:20250716T180000
DTSTAMP:20260424T030747
CREATED:20250703T012138Z
LAST-MODIFIED:20250703T012138Z
UID:4821-1752683400-1752688800@northridgevillehistoricalsociety.com
SUMMARY:Members Meeting
DESCRIPTION:Time to start planning fall events!  Join in the fun!  All are welcome.
URL:https://northridgevillehistoricalsociety.com/event/members-meeting-30/
LOCATION:North Ridgeville Public Library\, 35700 Bainbridge Rd.\, North Ridgeville\, OH\, 44039\, United States
END:VEVENT
BEGIN:VEVENT
DTSTART;TZID=America/New_York:20250629T140000
DTEND;TZID=America/New_York:20250629T170000
DTSTAMP:20260424T030747
CREATED:20250308T234712Z
LAST-MODIFIED:20250308T234712Z
UID:4476-1751205600-1751216400@northridgevillehistoricalsociety.com
SUMMARY:Open House at Schoolhouse
DESCRIPTION:100 years ago students would be on summer break\, but YOU can experience school from those days- step back in time with us!
URL:https://northridgevillehistoricalsociety.com/event/open-house-at-schoolhouse/
LOCATION:OH
END:VEVENT
BEGIN:VEVENT
DTSTART;TZID=America/New_York:20250618T163000
DTEND;TZID=America/New_York:20250618T173000
DTSTAMP:20260424T030747
CREATED:20250308T234458Z
LAST-MODIFIED:20250308T234458Z
UID:4474-1750264200-1750267800@northridgevillehistoricalsociety.com
SUMMARY:Member's Meeting
DESCRIPTION:Summer is in full swing- why not become a member of the Historical Society?
URL:https://northridgevillehistoricalsociety.com/event/members-meeting-29/
LOCATION:North Ridgeville Public Library\, 35700 Bainbridge Rd.\, North Ridgeville\, OH\, 44039\, United States
END:VEVENT
BEGIN:VEVENT
DTSTART;TZID=America/New_York:20250611T110000
DTEND;TZID=America/New_York:20250611T200000
DTSTAMP:20260424T030747
CREATED:20250524T184347Z
LAST-MODIFIED:20250524T184347Z
UID:4659-1749639600-1749672000@northridgevillehistoricalsociety.com
SUMMARY:Dine to Donate
DESCRIPTION:Join us for another “tasty” fundraiser at the Lone Tree Tavern!   Lone Tree will donate 10% of all food items purchased today from 11:00 until 8:00 to our group!  You know you want a big juicy hamburger or crispy salad\, right??  Carryout orders are included\, and no flyer is needed- just enjoy your meal.  (After 7:30 only appetizers are available)  See you there!
URL:https://northridgevillehistoricalsociety.com/event/dine-to-donate-2/
LOCATION:Lone Tree Tavern\, 33009 Lorain Rd.\, North Ridgeville\, OH\, 44039\, United States
END:VEVENT
BEGIN:VEVENT
DTSTART;TZID=America/New_York:20250525T140000
DTEND;TZID=America/New_York:20250525T170000
DTSTAMP:20260424T030747
CREATED:20250308T234303Z
LAST-MODIFIED:20250308T234303Z
UID:4471-1748181600-1748192400@northridgevillehistoricalsociety.com
SUMMARY:Dist. #9 Schoolhouse Open House
DESCRIPTION:It’s time for another season of fun at the District #9 Schoolhouse!  Join us for a fun\, informative afternoon learning how education has changed since the time of one-room schoolhouses.
URL:https://northridgevillehistoricalsociety.com/event/dist-9-schoolhouse-open-house/
LOCATION:OH
END:VEVENT
BEGIN:VEVENT
DTSTART;TZID=America/New_York:20250521T163000
DTEND;TZID=America/New_York:20250521T173000
DTSTAMP:20260424T030747
CREATED:20250308T233818Z
LAST-MODIFIED:20250308T233818Z
UID:4469-1747845000-1747848600@northridgevillehistoricalsociety.com
SUMMARY:Members Meeting
DESCRIPTION:Time to kick off the busy season!  Help us plan the summer events by joining the group!
URL:https://northridgevillehistoricalsociety.com/event/members-meeting-28/
LOCATION:North Ridgeville Public Library\, 35700 Bainbridge Rd.\, North Ridgeville\, OH\, 44039\, United States
END:VEVENT
BEGIN:VEVENT
DTSTART;TZID=America/New_York:20250416T163000
DTEND;TZID=America/New_York:20250416T173000
DTSTAMP:20260424T030747
CREATED:20250308T233625Z
LAST-MODIFIED:20250308T233625Z
UID:4467-1744821000-1744824600@northridgevillehistoricalsociety.com
SUMMARY:Members Meeting
DESCRIPTION:April showers…..Join us indoors for our next meeting!
URL:https://northridgevillehistoricalsociety.com/event/members-meeting-27/
LOCATION:North Ridgeville Public Library\, 35700 Bainbridge Rd.\, North Ridgeville\, OH\, 44039\, United States
END:VEVENT
BEGIN:VEVENT
DTSTART;TZID=America/New_York:20250319T163000
DTEND;TZID=America/New_York:20250319T173000
DTSTAMP:20260424T030747
CREATED:20250308T233421Z
LAST-MODIFIED:20250308T233421Z
UID:4465-1742401800-1742405400@northridgevillehistoricalsociety.com
SUMMARY:Members Meeting
DESCRIPTION:It’s March and spring is here.  What better time to start something new- join the Historical Society!
URL:https://northridgevillehistoricalsociety.com/event/members-meeting-26/
LOCATION:North Ridgeville Public Library\, 35700 Bainbridge Rd.\, North Ridgeville\, OH\, 44039\, United States
END:VEVENT
END:VCALENDAR