BEGIN:VCALENDAR
VERSION:2.0
PRODID:-//North Ridgeville Historical Society - ECPv6.15.13//NONSGML v1.0//EN
CALSCALE:GREGORIAN
METHOD:PUBLISH
X-WR-CALNAME:North Ridgeville Historical Society
X-ORIGINAL-URL:https://northridgevillehistoricalsociety.com
X-WR-CALDESC:Events for North Ridgeville Historical Society
REFRESH-INTERVAL;VALUE=DURATION:PT1H
X-Robots-Tag:noindex
X-PUBLISHED-TTL:PT1H
BEGIN:VTIMEZONE
TZID:America/New_York
BEGIN:DAYLIGHT
TZOFFSETFROM:-0500
TZOFFSETTO:-0400
TZNAME:EDT
DTSTART:20240310T070000
END:DAYLIGHT
BEGIN:STANDARD
TZOFFSETFROM:-0400
TZOFFSETTO:-0500
TZNAME:EST
DTSTART:20241103T060000
END:STANDARD
BEGIN:DAYLIGHT
TZOFFSETFROM:-0500
TZOFFSETTO:-0400
TZNAME:EDT
DTSTART:20250309T070000
END:DAYLIGHT
BEGIN:STANDARD
TZOFFSETFROM:-0400
TZOFFSETTO:-0500
TZNAME:EST
DTSTART:20251102T060000
END:STANDARD
BEGIN:DAYLIGHT
TZOFFSETFROM:-0500
TZOFFSETTO:-0400
TZNAME:EDT
DTSTART:20260308T070000
END:DAYLIGHT
BEGIN:STANDARD
TZOFFSETFROM:-0400
TZOFFSETTO:-0500
TZNAME:EST
DTSTART:20261101T060000
END:STANDARD
BEGIN:DAYLIGHT
TZOFFSETFROM:-0500
TZOFFSETTO:-0400
TZNAME:EDT
DTSTART:20270314T070000
END:DAYLIGHT
BEGIN:STANDARD
TZOFFSETFROM:-0400
TZOFFSETTO:-0500
TZNAME:EST
DTSTART:20271107T060000
END:STANDARD
END:VTIMEZONE
BEGIN:VEVENT
DTSTART;TZID=America/New_York:20250928T140000
DTEND;TZID=America/New_York:20250928T170000
DTSTAMP:20260425T093412
CREATED:20250728T174913Z
LAST-MODIFIED:20250728T174913Z
UID:5063-1759068000-1759078800@northridgevillehistoricalsociety.com
SUMMARY:Open House at the School House
DESCRIPTION:School in the 1800s would have started about this time of year.  Students in that era would have attended a school just like this one for grades one through eight!  Come for a visit to experience the past.
URL:https://northridgevillehistoricalsociety.com/event/open-house-at-the-school-house/
LOCATION:District #9 Schoolhouse\, 5064 Jaycox Rd.\, North Ridgeville\, OH\, 44039\, United States
END:VEVENT
BEGIN:VEVENT
DTSTART;TZID=America/New_York:20251015T110000
DTEND;TZID=America/New_York:20251015T200000
DTSTAMP:20260425T093412
CREATED:20251011T205705Z
LAST-MODIFIED:20251011T205705Z
UID:5894-1760526000-1760558400@northridgevillehistoricalsociety.com
SUMMARY:Dine to Donate
DESCRIPTION:Today is a fundraising opportunity for us – Dine to Donate!!  Hosted by our friends at Lone Tree Tavern\, 10% of all food purchases between the hours of 11 a.m. and 8p.m.* will come to our group to help us preserve the history of North Ridgeville.  Be sure to check out their menu and plan to enjoy lunch\, dinner or a snack today!  Bring your friends! No flyer is needed\, just order your favorites and enjoy! \nNo alcohol purchases will be included. \n*The full menu is available from 11-7 and appetizers only from 7-8p.m.
URL:https://northridgevillehistoricalsociety.com/event/dine-to-donate-3/
LOCATION:Lone Tree Tavern\, 33009 Lorain Rd.\, North Ridgeville\, OH\, 44039\, United States
END:VEVENT
BEGIN:VEVENT
DTSTART;TZID=America/New_York:20251015T163000
DTEND;TZID=America/New_York:20251015T180000
DTSTAMP:20260425T093412
CREATED:20250728T175149Z
LAST-MODIFIED:20251011T204159Z
UID:5066-1760545800-1760551200@northridgevillehistoricalsociety.com
SUMMARY:Members Meeting
DESCRIPTION:The holiday season is coming up quick!  Lots of planning for the rest of the year will be discussed.  Join us!
URL:https://northridgevillehistoricalsociety.com/event/members-meeting-33/
LOCATION:North Ridgeville Public Library\, 35700 Bainbridge Rd.\, North Ridgeville\, OH\, 44039\, United States
END:VEVENT
BEGIN:VEVENT
DTSTART;TZID=America/New_York:20251026T140000
DTEND;TZID=America/New_York:20251026T170000
DTSTAMP:20260425T093412
CREATED:20250728T175706Z
LAST-MODIFIED:20250728T175706Z
UID:5068-1761487200-1761498000@northridgevillehistoricalsociety.com
SUMMARY:Schoolhouse Open House
DESCRIPTION:This month is the end of our season at the District #9 Schoolhouse.  We’re always sad to see it end for the year\, but always look forward to May – when we reopen!  Stop in for one last visit before we pack up the books and close the doors.
URL:https://northridgevillehistoricalsociety.com/event/schoolhouse-open-house-3/
LOCATION:District #9 Schoolhouse\, 5064 Jaycox Rd.\, North Ridgeville\, OH\, 44039\, United States
END:VEVENT
BEGIN:VEVENT
DTSTART;VALUE=DATE:20251115
DTEND;VALUE=DATE:20251117
DTSTAMP:20260425T093412
CREATED:20251113T144820Z
LAST-MODIFIED:20251113T145834Z
UID:5980-1763164800-1763337599@northridgevillehistoricalsociety.com
SUMMARY:Pictures with Santa
DESCRIPTION:Join us November 15th and 16th when we welcome the big man himself to the District #9 Schoolhouse at 5064 Jaycox Rd.  For $30 Rutherford Photography will capture your loved ones in a few special memories of the holiday season that you can then share with family and friends. \nContact Rutherford Photography to reserve a private 10 minute photo session on one of the two days available.  You will receive digital copies of each photo taken and a few select edited images for printing as you wish.  A portion of the proceeds benefits the North Ridgeville Historical Society!  Make your reservation today!
URL:https://northridgevillehistoricalsociety.com/event/pictures-with-santa/
LOCATION:District #9 Schoolhouse\, 5064 Jaycox Rd.\, North Ridgeville\, OH\, 44039\, United States
END:VEVENT
BEGIN:VEVENT
DTSTART;TZID=America/New_York:20251119T163000
DTEND;TZID=America/New_York:20251119T180000
DTSTAMP:20260425T093412
CREATED:20250728T175943Z
LAST-MODIFIED:20250728T175943Z
UID:5071-1763569800-1763575200@northridgevillehistoricalsociety.com
SUMMARY:Members Meeting
DESCRIPTION:November is always the calm before the storm of the holidays.  Come share some calm with us!
URL:https://northridgevillehistoricalsociety.com/event/members-meeting-34/
LOCATION:North Ridgeville Public Library\, 35700 Bainbridge Rd.\, North Ridgeville\, OH\, 44039\, United States
END:VEVENT
BEGIN:VEVENT
DTSTART;TZID=America/New_York:20251206T090000
DTEND;TZID=America/New_York:20251206T160000
DTSTAMP:20260425T093412
CREATED:20251011T221822Z
LAST-MODIFIED:20251011T221822Z
UID:5906-1765011600-1765036800@northridgevillehistoricalsociety.com
SUMMARY:Holiday on the Ridge
DESCRIPTION:It’s almost here!  Time for another Holiday On the Ridge!  On your trek around town\, be sure to stop in at Mould’s Garden Center- where you’ll find us and our museum pop-up shop.  We’ll have a few unique gift items for your holiday shopping.  Watch for more information as the date draws near……
URL:https://northridgevillehistoricalsociety.com/event/holiday-on-the-ridge-2/
LOCATION:Don Mould’s Garden Center\, 34837 Lorain Rd\, North Ridgeville\, OH\, United States
END:VEVENT
BEGIN:VEVENT
DTSTART;VALUE=DATE:20260101
DTEND;VALUE=DATE:20260201
DTSTAMP:20260425T093412
CREATED:20260113T211848Z
LAST-MODIFIED:20260113T211905Z
UID:6016-1767225600-1769903999@northridgevillehistoricalsociety.com
SUMMARY:Library Display
DESCRIPTION:We’re featuring a few local businesses in a Library display this month- Ridge Tool\, Amidon Engineering and Dreco.  Due to their innovation\, these companies have brought world-wide recognition back to their hometown-North Ridgeville. This display is part of North Ridgeville’s America 250 Ohio celebration. \nScreenshot
URL:https://northridgevillehistoricalsociety.com/event/library-display-2/
LOCATION:North Ridgeville Public Library\, 35700 Bainbridge Rd.\, North Ridgeville\, OH\, 44039\, United States
END:VEVENT
BEGIN:VEVENT
DTSTART;TZID=America/New_York:20260121T163000
DTEND;TZID=America/New_York:20260121T180000
DTSTAMP:20260425T093412
CREATED:20260113T200535Z
LAST-MODIFIED:20260113T210449Z
UID:5991-1769013000-1769018400@northridgevillehistoricalsociety.com
SUMMARY:Monthly Meeting
DESCRIPTION:Screenshot \nJoin us as we start off 2026- an exciting year of events celebrating America 250!
URL:https://northridgevillehistoricalsociety.com/event/monthly-meeting/
LOCATION:North Ridgeville Public Library\, 35700 Bainbridge Rd.\, North Ridgeville\, OH\, 44039\, United States
END:VEVENT
BEGIN:VEVENT
DTSTART;TZID=America/New_York:20260218T163000
DTEND;TZID=America/New_York:20260218T180000
DTSTAMP:20260425T093412
CREATED:20260113T200854Z
LAST-MODIFIED:20260113T201629Z
UID:5994-1771432200-1771437600@northridgevillehistoricalsociety.com
SUMMARY:Monthly Meeting
DESCRIPTION:It’s a good month to join the Historical Society!
URL:https://northridgevillehistoricalsociety.com/event/monthly-meeting-2/
LOCATION:North Ridgeville Public Library\, 35700 Bainbridge Rd.\, North Ridgeville\, OH\, 44039\, United States
END:VEVENT
BEGIN:VEVENT
DTSTART;TZID=America/New_York:20260318T163000
DTEND;TZID=America/New_York:20260318T180000
DTSTAMP:20260425T093412
CREATED:20260113T201524Z
LAST-MODIFIED:20260113T201524Z
UID:5997-1773851400-1773856800@northridgevillehistoricalsociety.com
SUMMARY:Monthly Meeting
DESCRIPTION:We hope you’ll join us!
URL:https://northridgevillehistoricalsociety.com/event/monthly-meeting-3/
LOCATION:North Ridgeville Public Library\, 35700 Bainbridge Rd.\, North Ridgeville\, OH\, 44039\, United States
END:VEVENT
BEGIN:VEVENT
DTSTART;VALUE=DATE:20260402
DTEND;VALUE=DATE:20260501
DTSTAMP:20260425T093412
CREATED:20260113T211137Z
LAST-MODIFIED:20260113T211137Z
UID:6014-1775088000-1777593599@northridgevillehistoricalsociety.com
SUMMARY:Library Display
DESCRIPTION:Be sure to visit our new display at the North Ridgeville Library as we celebrate “Ohio Travels” as part of the America 250/Ohio celebration.  Featured will be the Greenline Trolley Service and Shawville Railroad Station that used to be here in town. \nScreenshoStation here in North Ridgeville.
URL:https://northridgevillehistoricalsociety.com/event/library-display/
LOCATION:North Ridgeville Public Library\, 35700 Bainbridge Rd.\, North Ridgeville\, OH\, 44039\, United States
END:VEVENT
BEGIN:VEVENT
DTSTART;TZID=America/New_York:20260415T163000
DTEND;TZID=America/New_York:20260415T180000
DTSTAMP:20260425T093412
CREATED:20260113T201802Z
LAST-MODIFIED:20260113T201802Z
UID:6000-1776270600-1776276000@northridgevillehistoricalsociety.com
SUMMARY:Monthly Meeting
DESCRIPTION:April Showers bring…..new friendships!!
URL:https://northridgevillehistoricalsociety.com/event/monthly-meeting-4/
LOCATION:North Ridgeville Public Library\, 35700 Bainbridge Rd.\, North Ridgeville\, OH\, 44039\, United States
END:VEVENT
BEGIN:VEVENT
DTSTART;TZID=America/New_York:20260520T163000
DTEND;TZID=America/New_York:20260520T180000
DTSTAMP:20260425T093412
CREATED:20260113T201948Z
LAST-MODIFIED:20260113T201948Z
UID:6002-1779294600-1779300000@northridgevillehistoricalsociety.com
SUMMARY:Monthly Meeting
DESCRIPTION:Summer is right around the corner- stop in to see us!
URL:https://northridgevillehistoricalsociety.com/event/monthly-meeting-5/
LOCATION:North Ridgeville Public Library\, 35700 Bainbridge Rd.\, North Ridgeville\, OH\, 44039\, United States
END:VEVENT
BEGIN:VEVENT
DTSTART;TZID=America/New_York:20260531T140000
DTEND;TZID=America/New_York:20260531T170000
DTSTAMP:20260425T093412
CREATED:20260113T202213Z
LAST-MODIFIED:20260113T212515Z
UID:6004-1780236000-1780246800@northridgevillehistoricalsociety.com
SUMMARY:District #9 Schoolhouse Open House
DESCRIPTION:Today is the first open house of the season at the District #9 Schoolhouse.  Join us for a unique look into the past!
URL:https://northridgevillehistoricalsociety.com/event/district-9-schoolhouse-open-house/
LOCATION:District #9 Schoolhouse\, 5064 Jaycox Rd.\, North Ridgeville\, OH\, 44039\, United States
END:VEVENT
BEGIN:VEVENT
DTSTART;TZID=America/New_York:20260617T163000
DTEND;TZID=America/New_York:20260617T180000
DTSTAMP:20260425T093412
CREATED:20260113T202406Z
LAST-MODIFIED:20260113T202406Z
UID:6006-1781713800-1781719200@northridgevillehistoricalsociety.com
SUMMARY:Monthly Meeting
DESCRIPTION:Visit us to see what’s “new” in history!
URL:https://northridgevillehistoricalsociety.com/event/monthly-meeting-6/
LOCATION:North Ridgeville Public Library\, 35700 Bainbridge Rd.\, North Ridgeville\, OH\, 44039\, United States
END:VEVENT
BEGIN:VEVENT
DTSTART;TZID=America/New_York:20260628T140000
DTEND;TZID=America/New_York:20260628T170000
DTSTAMP:20260425T093412
CREATED:20260113T202524Z
LAST-MODIFIED:20260113T202524Z
UID:6008-1782655200-1782666000@northridgevillehistoricalsociety.com
SUMMARY:Schoolhouse Open House
DESCRIPTION:The Schoolmarm is waiting to meet you- stop in for a visit!
URL:https://northridgevillehistoricalsociety.com/event/schoolhouse-open-house/
LOCATION:District #9 Schoolhouse\, 5064 Jaycox Rd.\, North Ridgeville\, OH\, 44039\, United States
END:VEVENT
END:VCALENDAR