BEGIN:VCALENDAR
VERSION:2.0
PRODID:-//North Ridgeville Historical Society - ECPv6.15.13//NONSGML v1.0//EN
CALSCALE:GREGORIAN
METHOD:PUBLISH
X-WR-CALNAME:North Ridgeville Historical Society
X-ORIGINAL-URL:https://northridgevillehistoricalsociety.com
X-WR-CALDESC:Events for North Ridgeville Historical Society
REFRESH-INTERVAL;VALUE=DURATION:PT1H
X-Robots-Tag:noindex
X-PUBLISHED-TTL:PT1H
BEGIN:VTIMEZONE
TZID:America/New_York
BEGIN:DAYLIGHT
TZOFFSETFROM:-0500
TZOFFSETTO:-0400
TZNAME:EDT
DTSTART:20240310T070000
END:DAYLIGHT
BEGIN:STANDARD
TZOFFSETFROM:-0400
TZOFFSETTO:-0500
TZNAME:EST
DTSTART:20241103T060000
END:STANDARD
BEGIN:DAYLIGHT
TZOFFSETFROM:-0500
TZOFFSETTO:-0400
TZNAME:EDT
DTSTART:20250309T070000
END:DAYLIGHT
BEGIN:STANDARD
TZOFFSETFROM:-0400
TZOFFSETTO:-0500
TZNAME:EST
DTSTART:20251102T060000
END:STANDARD
BEGIN:DAYLIGHT
TZOFFSETFROM:-0500
TZOFFSETTO:-0400
TZNAME:EDT
DTSTART:20260308T070000
END:DAYLIGHT
BEGIN:STANDARD
TZOFFSETFROM:-0400
TZOFFSETTO:-0500
TZNAME:EST
DTSTART:20261101T060000
END:STANDARD
END:VTIMEZONE
BEGIN:VEVENT
DTSTART;TZID=America/New_York:20250525T140000
DTEND;TZID=America/New_York:20250525T170000
DTSTAMP:20260425T113313
CREATED:20250308T234303Z
LAST-MODIFIED:20250308T234303Z
UID:4471-1748181600-1748192400@northridgevillehistoricalsociety.com
SUMMARY:Dist. #9 Schoolhouse Open House
DESCRIPTION:It’s time for another season of fun at the District #9 Schoolhouse!  Join us for a fun\, informative afternoon learning how education has changed since the time of one-room schoolhouses.
URL:https://northridgevillehistoricalsociety.com/event/dist-9-schoolhouse-open-house/
LOCATION:OH
END:VEVENT
BEGIN:VEVENT
DTSTART;TZID=America/New_York:20250521T163000
DTEND;TZID=America/New_York:20250521T173000
DTSTAMP:20260425T113313
CREATED:20250308T233818Z
LAST-MODIFIED:20250308T233818Z
UID:4469-1747845000-1747848600@northridgevillehistoricalsociety.com
SUMMARY:Members Meeting
DESCRIPTION:Time to kick off the busy season!  Help us plan the summer events by joining the group!
URL:https://northridgevillehistoricalsociety.com/event/members-meeting-28/
LOCATION:North Ridgeville Public Library\, 35700 Bainbridge Rd.\, North Ridgeville\, OH\, 44039\, United States
END:VEVENT
BEGIN:VEVENT
DTSTART;TZID=America/New_York:20250416T163000
DTEND;TZID=America/New_York:20250416T173000
DTSTAMP:20260425T113313
CREATED:20250308T233625Z
LAST-MODIFIED:20250308T233625Z
UID:4467-1744821000-1744824600@northridgevillehistoricalsociety.com
SUMMARY:Members Meeting
DESCRIPTION:April showers…..Join us indoors for our next meeting!
URL:https://northridgevillehistoricalsociety.com/event/members-meeting-27/
LOCATION:North Ridgeville Public Library\, 35700 Bainbridge Rd.\, North Ridgeville\, OH\, 44039\, United States
END:VEVENT
BEGIN:VEVENT
DTSTART;TZID=America/New_York:20250319T163000
DTEND;TZID=America/New_York:20250319T173000
DTSTAMP:20260425T113313
CREATED:20250308T233421Z
LAST-MODIFIED:20250308T233421Z
UID:4465-1742401800-1742405400@northridgevillehistoricalsociety.com
SUMMARY:Members Meeting
DESCRIPTION:It’s March and spring is here.  What better time to start something new- join the Historical Society!
URL:https://northridgevillehistoricalsociety.com/event/members-meeting-26/
LOCATION:North Ridgeville Public Library\, 35700 Bainbridge Rd.\, North Ridgeville\, OH\, 44039\, United States
END:VEVENT
END:VCALENDAR